BEGIN:VCALENDAR
VERSION:2.0
PRODID:-//Tukios.com/
BEGIN:VEVENT
UID:eedf1636-5457-4ed1-a241-7daff0f7a2ee@www.schuylkillcountycremation.com
DTSTAMP:20260421T051951Z
DTSTART:20260424T160000Z
DTEND:20260424T163000Z
SUMMARY:Visitation
DESCRIPTION:
URL:https://www.schuylkillcountycremation.com/obituaries/amanda-neidlinger
LOCATION:Geschwindt Stabingas Ebling Funeral Home & On-site Crematory 25 
	E Main St  Schuylkill Haven PA 17972
GEO:40.6298635;-76.1723668
END:VEVENT
END:VCALENDAR