BEGIN:VCALENDAR
VERSION:2.0
PRODID:-//Tukios.com/
BEGIN:VEVENT
UID:33f57636-baf1-445f-9077-f8de4fbe5da3@www.schuylkillcountycremation.com
DTSTAMP:20260421T051555Z
DTSTART:20260424T163000Z
DTEND:20260424T170000Z
SUMMARY:Celebration of Life
DESCRIPTION:
URL:https://www.schuylkillcountycremation.com/obituaries/amanda-neidlinger
LOCATION:Geschwindt Stabingas Ebling Funeral Home & On-site Crematory 25 
	E Main St  Schuylkill Haven PA 17972
GEO:40.6298635;-76.1723668
END:VEVENT
END:VCALENDAR